BEGIN:VCALENDAR
VERSION:2.0
PRODID:-//Plaza 4 Theater - ECPv5.8.1//NONSGML v1.0//EN
CALSCALE:GREGORIAN
METHOD:PUBLISH
X-WR-CALNAME:Plaza 4 Theater
X-ORIGINAL-URL:https://new.plaza4.com
X-WR-CALDESC:Events for Plaza 4 Theater
BEGIN:VTIMEZONE
TZID:America/Chicago
BEGIN:DAYLIGHT
TZOFFSETFROM:-0600
TZOFFSETTO:-0500
TZNAME:CDT
DTSTART:20260308T080000
END:DAYLIGHT
BEGIN:STANDARD
TZOFFSETFROM:-0500
TZOFFSETTO:-0600
TZNAME:CST
DTSTART:20261101T070000
END:STANDARD
END:VTIMEZONE
BEGIN:VEVENT
DTSTART;TZID=America/Chicago:20260425T190000
DTEND;TZID=America/Chicago:20260425T210000
DTSTAMP:20260425T073040
CREATED:20260311T192540Z
LAST-MODIFIED:20260311T192540Z
UID:8204-1777143600-1777150800@new.plaza4.com
SUMMARY:Strait Garth - A Tribute to George Strait and Garth Brooks
DESCRIPTION:Get ready for a night of pure country gold at Geneva Stage on Saturday\, April 25 as STRAIT GARTH – A Tribute to George Strait and Garth Brooks takes the stage! This high-energy tribute show celebrates two of the biggest legends in country music history\, delivering the timeless hits\, powerhouse vocals\, and boot-stomping anthems that defined a generation. From the smooth\, traditional swagger of George Strait to the arena-rock energy of Garth Brooks\, STRAIT GARTH brings the best of both worlds together for one unforgettable night. Whether you’re singing along to “Amarillo by Morning\,” shouting every word to “Friends in Low Places\,” or two-stepping with friends\, this is a can’t-miss country party in the heart of Lake Geneva. Grab your boots\, rally your crew\, and get ready to experience the ultimate country tribute showdown! \nPurchase Tickets
URL:https://new.plaza4.com/events-calendar/strait-garth-a-tribute-to-george-strait-and-garth-brooks/
LOCATION:Geneva Stage\, 244 BROAD ST\, LAKE GENEVA\, WI\, 53147\, United States
CATEGORIES:Geneva Stage
ATTACH;FMTTYPE=image/jpeg:https://new.plaza4.com/wp-content/uploads/strait-garth.jpg
END:VEVENT
BEGIN:VEVENT
DTSTART;TZID=America/Chicago:20260502T193000
DTEND;TZID=America/Chicago:20260502T213000
DTSTAMP:20260425T073040
CREATED:20260311T192733Z
LAST-MODIFIED:20260311T192733Z
UID:8207-1777750200-1777757400@new.plaza4.com
SUMMARY:A Tribute to The Talking Heads w/ Big Suit
DESCRIPTION:An Evening With BiG SUiT: Inspired by Talking Heads \nPerforming to sold out\, ‘dancing in the aisles’ audiences everywhere\, Big Suit is a collective of 9 of the nation’s top musicians who came together to celebrate the offbeat delight and thrilling legacy of Talking Heads.\nA 2024 Tribute Band of the Year nominee at the Josie Awards\, BiG SUiT is consistently reviewed as a “Vegas spectacle meets concert event.” This group of musicians brings Talking Heads music to dazzling life with a once in a lifetime\, high energy show that will have you dancing in your seat. \n“Jason Krause as David Byrne is astonishing––with charisma and talent that just doesn’t quit––surrounded by a wildly entertaining and talented band. BiG SUiT is breathtaking.” — Riviera Theatre\, New York \n“I like great performances of serious\, complicated music… this was one of the best concerts of our lives.” — Dale S.\, Fan \nPurchase Tickets
URL:https://new.plaza4.com/events-calendar/a-tribute-to-the-talking-heads-w-big-suit-2/
LOCATION:Geneva Stage\, 244 BROAD ST\, LAKE GENEVA\, WI\, 53147\, United States
CATEGORIES:Geneva Stage
ATTACH;FMTTYPE=image/jpeg:https://new.plaza4.com/wp-content/uploads/big-suit.jpg
END:VEVENT
BEGIN:VEVENT
DTSTART;TZID=America/Chicago:20260516T190000
DTEND;TZID=America/Chicago:20260516T210000
DTSTAMP:20260425T073040
CREATED:20260312T155658Z
LAST-MODIFIED:20260312T155658Z
UID:8213-1778958000-1778965200@new.plaza4.com
SUMMARY:A Tribute to Steely Dan w/ DEACON BLUES
DESCRIPTION:DEACON BLUES was born in the twelfth year of the 21st century. Eleven stellar musicians\, composers\, and educators based in Chicago\, they share a unique passion for the Becker/Fagen repository\, better known to the world as Steely Dan. \nThe group reads as a “who’s who” of world class musicians. Chicago luminaries and Grammy® winners such as Howard Levy (Kenny Loggins\, Paul Simon\, Bela Fleck)\, Chuck Webb (Aretha Franklin\, Ramsey Lewis\, and Al Di Meola)\, Sugar Blue (The Rolling Stones)\, Billy Branch (The Sons of Blues)\, Khari Parker (George Benson\, Destiny’s Child)\, Richard Patterson (Miles Davis\, Boz Skaggs)\, and Bob Lizik (The Beach Boys; Brian Wilson)\, have been featured as special guests with the band. \nThis stunning collective is essentially the personification of what The Dan did on record – gathering top studio musicians for their albums – The Deacons are doing this in a live format. \nSpeaking of “The Deacons” – that is actually the moniker of Deacon Blues’ alter ego – their original band. With support from legendary Chicago FM radio station personalities such as Bob Stroud (The Drive) and Scott Mackay (The River)\, The Deacons will be debuting their first album of original music\, in a similar musical landscape as ‘The Dan\,’ in 2019\, along with Kikoen’s other original vehicle: THE LOTUS KINGS. \nIn the words of legendary Chicago FM Radio personality Bob Stroud (WDRV-FM “The Drive”) – “If you are a Dan fan\, you owe it to yourself to see Deacon Blues — they’ve got all the right musicians with all the right chops — they are an incredible tribute to the music of Steely Dan!” \nPurchase Tickets
URL:https://new.plaza4.com/events-calendar/a-tribute-to-steely-dan-w-deacon-blues/
LOCATION:Geneva Stage\, 244 BROAD ST\, LAKE GENEVA\, WI\, 53147\, United States
CATEGORIES:Geneva Stage
ATTACH;FMTTYPE=image/jpeg:https://new.plaza4.com/wp-content/uploads/deacon-blues.jpg
END:VEVENT
BEGIN:VEVENT
DTSTART;TZID=America/Chicago:20260530T190000
DTEND;TZID=America/Chicago:20260530T210000
DTSTAMP:20260425T073040
CREATED:20260326T210140Z
LAST-MODIFIED:20260326T210140Z
UID:8255-1780167600-1780174800@new.plaza4.com
SUMMARY:Scorpions Tribute with Make It Real + HERSTERIA Def Leppard
DESCRIPTION:Rock me like a Hurricane!\nMake it Real is the premier tribute to the music of Scorpions! With their electrifying guitar solos\, powerful drum beats\, and captivating stage presence\, Make it Real brings the iconic sound of Scorpions to life.\nPLUS:\nOpening the show is HERSTERIA! The ONLY female DEF LEPPARD tribute show in the country. These girls can rock a stage\, elevating each classic hit with their own electrifying flair. From Pour Some Sugar On Me to Photograph! They play all the classic Def Leppard hits! \nPurchase Tickets
URL:https://new.plaza4.com/events-calendar/scorpions-tribute-with-make-it-real-hersteria-def-leppard/
LOCATION:Geneva Stage\, 244 BROAD ST\, LAKE GENEVA\, WI\, 53147\, United States
CATEGORIES:Geneva Stage
ATTACH;FMTTYPE=image/jpeg:https://new.plaza4.com/wp-content/uploads/scorps-leppard.jpg
END:VEVENT
BEGIN:VEVENT
DTSTART;TZID=America/Chicago:20260619T190000
DTEND;TZID=America/Chicago:20260619T210000
DTSTAMP:20260425T073040
CREATED:20260326T210337Z
LAST-MODIFIED:20260326T210337Z
UID:8258-1781895600-1781902800@new.plaza4.com
SUMMARY:SONS OF SEGER - A Tribute to Bob Seger
DESCRIPTION:Get ready for a night of heartland rock at Geneva Stage when Sons of Seger – A Tribute to Bob Seger takes the stage on Friday\, June 19. This powerhouse tribute captures the raw energy\, soulful vocals\, and timeless sound that made Bob Seger one of America’s greatest rock legends. From arena anthems like “Old Time Rock & Roll\,” “Hollywood Nights\,” and “Night Moves” to the emotional power of “Turn the Page\,” Sons of Seger delivers an authentic live concert experience that will have fans singing along all night. Whether you grew up with Seger on the radio or just love classic rock done right\, this is a show that brings the spirit of Detroit rock straight to Lake Geneva for one unforgettable night. \nPurchase Tickets
URL:https://new.plaza4.com/events-calendar/sons-of-seger-a-tribute-to-bob-seger/
LOCATION:Geneva Stage\, 244 BROAD ST\, LAKE GENEVA\, WI\, 53147\, United States
CATEGORIES:Geneva Stage
ATTACH;FMTTYPE=image/jpeg:https://new.plaza4.com/wp-content/uploads/sons-of-seger.jpg
END:VEVENT
BEGIN:VEVENT
DTSTART;TZID=America/Chicago:20260620T190000
DTEND;TZID=America/Chicago:20260620T210000
DTSTAMP:20260425T073040
CREATED:20260311T191947Z
LAST-MODIFIED:20260401T190745Z
UID:8193-1781982000-1781989200@new.plaza4.com
SUMMARY:A BOY BAND TRIBUTE Sing-along with Boy Band Review!
DESCRIPTION:All your favorite BOY BAND HITS from Backstreet Boys\, to NSYNC\, to New Kids\, One Direction and MORE!!! Come dance and sing along and relive your best years! \nHaving captured the hearts of fans with their #boyband shows that transport audience members back in time to the days of frosted tips\nand hunky front-men professing their undying love.​ \nThe #boyband shows are an incredible throwback experience reliving your best years with a full band\, choreography and harmonies. \nBoy Band Review have played numerous high-profile events\, private engagements\, a Las Vegas residency at Planet Hollywood Casino\, performed with Chris Kirkpatrick of NSYNC joining the band for multiple shows\, and selling out countless venues across the country to capacity crowds. \nBoy Band Review is everyone’s favorite show since the 1990s! \nPurchase Tickets
URL:https://new.plaza4.com/events-calendar/a-boy-band-tribute-sing-along-with-boy-band-review/
LOCATION:Geneva Stage\, 244 BROAD ST\, LAKE GENEVA\, WI\, 53147\, United States
CATEGORIES:Geneva Stage
ATTACH;FMTTYPE=image/jpeg:https://new.plaza4.com/wp-content/uploads/boy-band-review-1.jpg
END:VEVENT
END:VCALENDAR